{"text_format":"1","workbook":"xlsx","n_sheets":2,"sheets":["Invoerblad","Uitslagformulier"],"not_rendered":{"charts":0,"images":1,"macros":0,"external_links":0,"defined_names":0,"comments":0,"pivot_tables":0},"unopened":[],"bounds":{"document_bytes":16777216,"sheet_cells":100000,"rows_first":2000,"rows_last":500,"rows_between":2000,"halvings":0,"cell_chars":16384,"cell_head_chars":4096},"cells_cut":0,"cells_raw":0,"read":"whole","date_system":"1900"}

{"sheet":"Invoerblad","index":0,"n_rows":50,"n_cols":30,"rows_kept":50,"cut":false,"hidden":false,"merged":[[44,9,44,11],[15,25,15,27],[15,28,15,29],[7,7,7,8],[8,2,9,3],[0,2,0,4],[1,2,1,4],[2,2,2,4],[3,2,3,4],[0,5,0,7],[1,5,1,7],[2,5,2,7],[3,5,3,7],[8,1,9,1],[8,0,9,0],[5,3,5,7],[5,0,5,2],[28,15,28,17],[16,15,16,17],[15,0,15,1],[6,7,6,8],[22,15,22,17]]}
[null,null,"Voorronde PK:"]
[null,null,"Data:"]
[null,null,"Locatie:",null,null,null,null,null,null,null,null,null,null,null,null,null,null,null,null,null," "]
[null,null,"Wedstrijdleider:"]
[]
["UITSLUITEND DE GELE VLAKKEN INVULLEN !",null,null,"NAMEN INVULLEN VOLGENS DE UITNODIGING"]
[null,null,null,null,null,null,null,"Max. beurten:",null,60,"Brt."]
["Deelnemers",null,null,null,null,null,null,"Te spelen partijen:",null,4,"Parijen"]
["Bondsnr","Naam","Vereniging",null,"te maken","aanvangs","Oficieel"]
[null,null,null,null,"car.","moy.","moyenne",null,null,null,null,null,null,null,null,null,null," "]
[null," ",null,null,null,null,null,null,null,null,null,null,null,1,{"$f":"IF(D18>0,1,FALSE)","v":1},{"$f":"IF(D25>0,1,FALSE)","v":1},{"$f":"IF(D31>0,1,FALSE)","v":1},{"$f":"IF(D40>0,1,FALSE)","v":1},{"$f":"SUM(O11:R11)","v":4},{"$f":"PRODUCT(E11,S11)","v":4}]
[null," ",null,null,null,null,null,null,null,null,null,null,null,2,{"$f":"IF(D19>0,1,FALSE)","v":1},{"$f":"IF(D27>0,1,FALSE)","v":1},{"$f":"IF(D34>0,1,FALSE)","v":1},{"$f":"IF(D38>0,1,FALSE)","v":1},{"$f":"SUM(O12:R12)","v":4},{"$f":"PRODUCT(E12,S12)","v":4}]
[null," ",null,null,null,null,null,null,null,null,null,null,null,3,{"$f":"IF(D21>0,1,FALSE)","v":1},{"$f":"IF(D28>0,1,FALSE)","v":1},{"$f":"IF(D32>0,1,FALSE)","v":1},{"$f":"IF(D37>0,1,FALSE)","v":1},{"$f":"SUM(O13:R13)","v":4},{"$f":"PRODUCT(E13,S13)","v":4}]
[null," ",null,null,null,null,null,null,null,null,null,null,null,4,{"$f":"IF(D22>0,1,FALSE)","v":1},{"$f":"IF(D24>0,1,FALSE)","v":1},{"$f":"IF(D35>0,1,FALSE)","v":1},{"$f":"IF(D41>0,1,FALSE)","v":1},{"$f":"SUM(O14:R14)","v":4},{"$f":"PRODUCT(E14,S14)","v":4}]
[]
["Wedstrijden",null,null,null,null,null,null,null,null,null,null,null,null,null,null,null,null,null,null,null,null,null,null,null,"Partij","Car %",null,null,"Interval pnt. bij max. brt."]
[null,"Naam","Car.","Brt.","HS","Moy.","Pnt.",null,null,1,"-",2,null,null,null,"partij moyenne"]
[null,{"$f":"B11","v":" "}," "," "," ",{"$f":"ROUNDDOWN(C18/D18,3)","v":{"$error":"#VALUE!"}},{"$f":"IF(AND(D18=J7,C18<E11,C19<E12),AC18,      IF(AND(C18=E11,C19<E12),2,IF(AND(C18=E11,C19=E12),1,0)))","v":0},null,null,3,"-",4,null,1,{"$f":"IF(G18>0,F18,0)","v":0},{"$f":"IF(G25>0,F25,0)","v":0},{"$f":"IF(G31>0,F31,0)","v":0},{"$f":"IF(G37>0,F37,0)","v":0},{"$f":"MAX(O18:R18)","v":0},null,{"$f":"IF(C18=E11,1,0)","v":0},{"$f":"IF(C19<E12,1,0)","v":0},{"$f":"SUM(U18:V18)","v":0},null,1,{"$f":"ROUNDDOWN(C18/E11,3)","v":{"$error":"#VALUE!"}},"-",{"$f":"ROUNDDOWN(C19/E12,3)","v":{"$error":"#VALUE!"}},{"$f":"IF(Z18<AB18,0,IF(Z18>AB18,2,1))","v":{"$error":"#VALUE!"}},{"$f":"IF(AB18<Z18,0,IF(AB18>Z18,2,1))","v":{"$error":"#VALUE!"}}]
[null,{"$f":"B12","v":" "}," ",{"$f":"D18","v":" "}," ",{"$error":"#VALUE!"},{"$f":"IF(AND(D19=J7,C19<E12,C18<E11),AD18,         IF(AND(C19=E12,C18<E11),2,IF(AND(C19=E12,C18=E11),1,0)))","v":0},null,null,1,"-",4,null,2,{"$f":"IF(G19>0,F19,0)","v":0},{"$f":"IF(G27>0,F27,0)","v":0},{"$f":"IF(G34>0,F34,0)","v":0},{"$f":"IF(G38>0,F38,0)","v":0},{"$f":"MAX(O19:R19)","v":0},null,{"$f":"IF(C19=E12,1,0)","v":0},{"$f":"IF(C18<E11,1,0)","v":0},{"$f":"SUM(U19:V19)","v":0},null,2,{"$f":"ROUNDDOWN(C21/E13,3)","v":{"$error":"#VALUE!"}},"-",{"$f":"ROUNDDOWN(C22/E14,3)","v":{"$error":"#DIV/0!"}},{"$f":"IF(Z19<AB19,0,IF(Z19>AB19,2,1))","v":{"$error":"#VALUE!"}},{"$f":"IF(AB19<Z19,0,IF(AB19>Z19,2,1))","v":{"$error":"#DIV/0!"}}]
[null,"  ",null,null,null,null,null,null,null,2,"-",3,null,3,{"$f":"IF(G21>0,F21,0)","v":0},{"$f":"IF(G28>0,F28,0)","v":0},{"$f":"IF(G32>0,F32,0)","v":0},{"$f":"IF(G40>0,F40,0)","v":0},0,null,null,null,null,null,3,{"$f":"ROUNDDOWN(C24/E14,3)","v":{"$error":"#VALUE!"}},"-",{"$f":"ROUNDDOWN(C25/E11,3)","v":{"$error":"#DIV/0!"}},{"$error":"#VALUE!"},{"$error":"#DIV/0!"}]
[null,{"$f":"B13","v":" "}," "," "," ",{"$f":"ROUNDDOWN(C21/D21,3)","v":{"$error":"#VALUE!"}},{"$f":"IF(AND(D21=J7,C21<E13,C22<E14),AC19,      IF(AND(C21=E13,C22<E14),2,IF(AND(C21=E13,C22=E14),1,0)))","v":0},null,null,1,"-",3,null,4,{"$f":"IF(G22>0,F22,0)","v":0},{"$f":"IF(G24>0,F24,0)","v":0},{"$f":"IF(G35>0,F35,0)","v":0},{"$f":"IF(G41>0,F41,0)","v":0},0,null,{"$f":"IF(C21=E13,1,0)","v":0},{"$f":"IF(C22<E14,1,0)","v":0},{"$f":"SUM(U21:V21)","v":0},null,4,{"$f":"ROUNDDOWN(C27/E12,3)","v":{"$error":"#VALUE!"}},"-",{"$f":"ROUNDDOWN(C28/E13,3)","v":{"$error":"#DIV/0!"}},{"$error":"#VALUE!"},{"$error":"#DIV/0!"}]
[null,{"$f":"B14","v":" "},null,{"$f":"D21","v":" "}," ",{"$error":"#VALUE!"},{"$f":"IF(AND(D22=J7,C22<E14,C21<E13),AD19,         IF(AND(C22=E14,C21<E13),2,IF(AND(C22=E14,C21=E13),1,0)))","v":0},null,null,2,"-",4,null,null,null,null,null,null,null,null,{"$f":"IF(C22=E14,1,0)","v":1},{"$f":"IF(C21<E13,1,0)","v":0},1,null,5,{"$f":"ROUNDDOWN(C31/E11,3)","v":{"$error":"#VALUE!"}},"-",{"$f":"ROUNDDOWN(C32/E13,3)","v":{"$error":"#DIV/0!"}},{"$error":"#VALUE!"},{"$error":"#DIV/0!"}]
[null,null,null,null,null,null,null,null,null,1,"-",2,null,null,null,"gewonnen",null,null,null,null,null,null,null,null,6,{"$f":"ROUNDDOWN(C34/E12,3)","v":{"$error":"#VALUE!"}},"-",{"$f":"ROUNDDOWN(C35/E14,3)","v":{"$error":"#VALUE!"}},{"$error":"#VALUE!"},{"$error":"#VALUE!"}]
[null,{"$f":"B11","v":" "}," "," "," ",{"$f":"ROUNDDOWN(C24/D24,3)","v":{"$error":"#VALUE!"}},{"$f":"IF(AND(D24=J7,C24<E14,C25<E11),AC20,    IF(AND(C24=E14,C25<E11),2,IF(AND(C24=E14,C25=E11),1,0)))","v":0},null,null,3,"-",4,null,1,{"$f":"IF(G18>1,1,0)","v":0},{"$f":"IF(G25>1,1,0)","v":0},{"$f":"IF(G31>1,1,0)","v":0},{"$f":"IF(G37>1,1,0)","v":0},{"$f":"SUM(O24:R24)","v":0},null,{"$f":"IF(C24=E14,1,0)","v":0},{"$f":"IF(C25<E11,1,0)","v":0},0,null,7,{"$f":"ROUNDDOWN(C37/E13,3)","v":{"$error":"#VALUE!"}},"-",{"$f":"ROUNDDOWN(C38/E12,3)","v":{"$error":"#DIV/0!"}},{"$error":"#VALUE!"},{"$error":"#DIV/0!"}]
[null,{"$f":"B14","v":" "},null,{"$f":"D24","v":" "}," ",{"$error":"#VALUE!"},{"$f":"IF(AND(D25=J7,C25<E11,C24<E14),AD20,         IF(AND(C25=E11,C24<E14),2,IF(AND(C25=E11,C24=E14),1,0)))","v":0},null,null,null,null,null,null,2,{"$f":"IF(G19>1,1,0)","v":0},{"$f":"IF(G27>1,1,0)","v":0},{"$f":"IF(G34>1,1,0)","v":0},{"$f":"IF(G38>1,1,0)","v":0},{"$f":"SUM(O25:R25)","v":0},null,{"$f":"IF(C25=E11,1,0)","v":1},{"$f":"IF(C24<E14,1,0)","v":0},1,null,8,{"$f":"ROUNDDOWN(C40/E13,3)","v":{"$error":"#VALUE!"}},"-",{"$f":"ROUNDDOWN(C41/E14,3)","v":{"$error":"#VALUE!"}},{"$f":"IF(Z25<AB25,0,IF(Z25>AB25,2,1))","v":{"$error":"#VALUE!"}},{"$f":"IF(AB25<Z25,0,IF(AB25>Z25,2,1))","v":{"$error":"#VALUE!"}}]
[null,null,null,null,null,null,null,null,null,null,null,null,null,3,{"$f":"IF(G21>1,1,0)","v":0},{"$f":"IF(G28>1,1,0)","v":0},{"$f":"IF(G32>1,1,0)","v":0},{"$f":"IF(G40>1,1,0)","v":0},{"$f":"SUM(O26:R26)","v":0}]
[null,{"$f":"B12","v":" "}," "," ",null,{"$f":"ROUNDDOWN(C27/D27,3)","v":{"$error":"#VALUE!"}},{"$f":"IF(AND(D27=J7,C27<E12,C28<E13),AC21,    IF(AND(C27=E12,C28<E13),2,IF(AND(C27=E12,C28=E13),1,0)))","v":0},null,null,null,null,null,null,4,{"$f":"IF(G22>1,1,0)","v":0},{"$f":"IF(G24>1,1,0)","v":0},{"$f":"IF(G35>1,1,0)","v":0},{"$f":"IF(G41>1,1,0)","v":0},{"$f":"SUM(O27:R27)","v":0},null,{"$f":"IF(C27=E12,1,0)","v":0},{"$f":"IF(C28<E13,1,0)","v":0},0]
[null,{"$f":"B13","v":" "},null,{"$f":"D27","v":" "},null,{"$error":"#VALUE!"},{"$f":"IF(AND(D28=J7,C28<E13,C27<E12),AD21,         IF(AND(C28=E13,C27<E12),2,IF(AND(C28=E13,C27=E12),1,0)))","v":0},null,null,null,null,null,null,null,null,null,null,null,null,null,{"$f":"IF(C28=E13,1,0)","v":1},{"$f":"IF(C27<E12,1,0)","v":0},1]
[null,null,null,null,null,null,null,null,null,null,null,null,null,null,null,"gelijk"]
[null,null,"Car.","Brt.","HS","Moy.","Pnt.",null,null,null,null,null,null,1,{"$f":"IF(G18=1,1,0)","v":0},{"$f":"IF(G25=1,1,0)","v":0},{"$f":"IF(G31=1,1,0)","v":0},{"$f":"IF(G37=1,1,0)","v":0},{"$f":"SUM(O30:R30)","v":0}]
[null,{"$f":"B11","v":" "}," "," ",null,{"$f":"ROUNDDOWN(C31/D31,3)","v":{"$error":"#VALUE!"}},{"$f":"IF(AND(D31=J7,C31<E11,C32<E13),AC22,      IF(AND(C31=E11,C32<E13),2,IF(AND(C31=E11,C32=E13),1,0)))","v":0},null,null,null,null,null,null,2,{"$f":"IF(G19=1,1,0)","v":0},{"$f":"IF(G27=1,1,0)","v":0},{"$f":"IF(G34=1,1,0)","v":0},{"$f":"IF(G38=1,1,0)","v":0},{"$f":"SUM(O31:R31)","v":0},null,{"$f":"IF(C31=E11,1,0)","v":0},{"$f":"IF(C32<E13,1,0)","v":0},0]
[null,{"$f":"B13","v":" "},null,{"$f":"D31","v":" "},null,{"$error":"#VALUE!"},{"$f":"IF(AND(D32=J7,C32<E13,C31<E11),AD22,      IF(AND(C32=E13,C31<E11),2,IF(AND(C32=E13,C31=E11),1,0)))","v":0},null,null,null,null,null,null,3,{"$f":"IF(G21=1,1,0)","v":0},{"$f":"IF(G28=1,1,0)","v":0},{"$f":"IF(G32=1,1,0)","v":0},{"$f":"IF(G40=1,1,0)","v":0},0,null,{"$f":"IF(C32=E13,1,0)","v":1},{"$f":"IF(C31<E11,1,0)","v":0},1]
[null,null,null,null,null,null,null,null,null,null,null,null,null,4,{"$f":"IF(G22=1,1,0)","v":0},{"$f":"IF(G24=1,1,0)","v":0},{"$f":"IF(G35=1,1,0)","v":0},{"$f":"IF(G41=1,1,0)","v":0},0]
[null,{"$f":"B12","v":" "}," "," ",null,{"$f":"ROUNDDOWN(C34/D34,3)","v":{"$error":"#VALUE!"}},{"$f":"IF(AND(D34=J7,C34<E12,C35<E14),AC23,      IF(AND(C34=E12,C35<E14),2,IF(AND(C34=E12,C35=E14),1,0)))","v":0},null,null,null,null,null,null,null,null,null,null,null,null,null,{"$f":"IF(C34=E12,1,0)","v":0},{"$f":"IF(C35<E14,1,0)","v":0},0]
[null,{"$f":"B14","v":" "}," ",{"$f":"D34","v":" "},null,{"$error":"#VALUE!"},{"$f":"IF(AND(D35=J7,C35<E14,C34<E12),AD23,      IF(AND(C35=E14,C34<E12),2,IF(AND(C35=E14,C34=E12),1,0)))","v":0},null,null,null,null,null,null,null,null,null,null,null,null,null,{"$f":"IF(C35=E14,1,0)","v":0},{"$f":"IF(C34<E12,1,0)","v":0},0]
[]
[null,{"$f":"B11","v":" "}," "," ",null,{"$f":"ROUNDDOWN(C37/D37,3)","v":{"$error":"#VALUE!"}},{"$f":"IF(AND(D37=J7,C37<E11,C38<E12),AC24,      IF(AND(C37=E11,C38<E12),2,IF(AND(C37=E11,C38=E12),1,0)))","v":0},null,null,null,null,null,null,null,null,null,null,null,null,null,{"$f":"IF(C37=E11,1,0)","v":0},{"$f":"IF(C38<E12,1,0)","v":0},0]
[null,{"$f":"B12","v":" "},null,{"$f":"D37","v":" "},null,{"$error":"#VALUE!"},{"$f":"IF(AND(D38=J7,C38<E12,C37<E11),AD24,      IF(AND(C38=E12,C37<E11),2,IF(AND(C38=E12,C37=E11),1,0)))","v":0},null,null,null,null,null,null,null,null,null,null,null,null,null,{"$f":"IF(C38=E12,1,0)","v":1},{"$f":"IF(C37<E11,1,0)","v":0},1]
[]
[null,{"$f":"B13","v":" "}," "," ",null,{"$f":"ROUNDDOWN(C40/D40,3)","v":{"$error":"#VALUE!"}},{"$f":"IF(AND(D40=J7,C40<E13,C41<E14),AC25,      IF(AND(C40=E13,C41<E14),2,IF(AND(C40=E13,C41=E14),1,0)))","v":0},null,null,null,null,null,null,null,null,null,null,null,null,null,{"$f":"IF(C40=E13,1,0)","v":0},{"$f":"IF(C41<E14,1,0)","v":0},0]
[null,{"$f":"B14","v":" "}," ",{"$f":"D40","v":" "},null,{"$error":"#VALUE!"},{"$f":"IF(AND(D41=J7,C41<E14,C40<E13),AD25,      IF(AND(C41=E14,C40<E13),2,IF(AND(C41=E14,C40=E13),1,0)))","v":0},null,null,null,null,null,null,null,null,null,null,null,null,null,{"$f":"IF(C41=E14,1,0)","v":0},{"$f":"IF(C40<E13,1,0)","v":0},0]
[]
[]
[]
[null,null,null,null,null,null,null,null,null,"Plaatsing ",null,null,"Rangking"]
[null,null,"Car.","Brt.","HS","Moy.","Pnt.","% moy.","% carb.","Mp.","% moy.","% carb."]
[null,{"$f":"B11","v":" "},{"$f":"SUM(C18,C25,C31,C37)","v":0},{"$f":"SUM(D18,D25,D31,D37)","v":0},{"$f":"MAX(E18,E25,E31,E37)","v":0},{"$f":"ROUNDDOWN(C47/D47,3)","v":{"$error":"#DIV/0!"}},{"$f":"SUM(G18,G25,G31,G37)","v":0},{"$f":"IF(OR(ISBLANK(C47),ISBLANK(D47)),\"-\",IF(AND(G11=\"NEE\",F47/F11>1),100,ROUNDDOWN(F47/F11%,2)))","v":{"$error":"#DIV/0!"}},{"$f":"C47/T11","v":0},null,null,null,{"$f":"SUM(J47:L47)","v":0}]
[null,{"$f":"B12","v":" "},{"$f":"SUM(C19,C27,C34,C38)","v":0},{"$f":"SUM(D19,D27,D34,D38)","v":0},{"$f":"MAX(E19,E27,E34,E38)","v":0},{"$f":"ROUNDDOWN(C48/D48,3)","v":{"$error":"#DIV/0!"}},{"$f":"SUM(G19,G27,G34,G38)","v":0},{"$f":"IF(OR(ISBLANK(C48),ISBLANK(D48)),\"-\",IF(AND(G12=\"NEE\",F48/F12>1),100,ROUNDDOWN(F48/F12%,2)))","v":{"$error":"#DIV/0!"}},{"$f":"C48/T12","v":0},null,null,null,{"$f":"SUM(J48:L48)","v":0}]
[null,{"$f":"B13","v":" "},{"$f":"SUM(C21,C28,C32,C40)","v":0},{"$f":"SUM(D21,D28,D32,D40)","v":0},{"$f":"MAX(E21,E28,E32,E40)","v":0},{"$error":"#DIV/0!"},{"$f":"SUM(G21,G28,G32,G40)","v":0},{"$f":"IF(OR(ISBLANK(C49),ISBLANK(D49)),\"-\",IF(AND(G13=\"NEE\",F49/F13>1),100,ROUNDDOWN(F49/F13%,2)))","v":{"$error":"#DIV/0!"}},{"$f":"C49/T13","v":0},null,null,null,0]
[null,{"$f":"B14","v":" "},{"$f":"SUM(C22,C24,C35,C41)","v":0},{"$f":"SUM(D22,D24,D35,D41)","v":0},{"$f":"MAX(E22,E24,E35,E41)","v":0},{"$error":"#DIV/0!"},{"$f":"SUM(G22,G24,G35,G41)","v":0},{"$f":"IF(OR(ISBLANK(C50),ISBLANK(D50)),\"-\",IF(AND(G14=\"NEE\",F50/F14>1),100,ROUNDDOWN(F50/F14%,2)))","v":{"$error":"#DIV/0!"}},{"$f":"C50/T14","v":0},null,null,null,{"$f":"SUM(J50:L50)","v":0}]

{"sheet":"Uitslagformulier","index":1,"n_rows":97,"n_cols":16,"rows_kept":97,"cut":false,"hidden":false,"merged":[[2,12,2,14],[27,7,27,8],[23,0,23,2],[24,0,24,2],[25,0,25,2],[19,4,19,7],[20,4,20,7],[21,4,21,7],[22,4,22,7],[23,4,23,7],[24,4,24,7],[25,4,25,7],[26,4,26,7],[19,0,19,2],[20,0,20,2],[22,0,22,2],[26,0,26,2],[22,9,22,11],[23,9,26,11],[10,7,10,9],[11,7,11,9],[14,0,14,8],[15,0,15,8],[16,0,16,8],[17,0,17,8],[1,1,1,4],[11,2,11,6],[10,2,10,6],[1,5,1,9],[13,0,13,8]]}
[]
[null,"uitslagformulier voorronden",null,null,null,{"$f":"Invoerblad!E1","v":0}]
[null,null,null,null,null,null,null,null,null,null,null,null,"Plaatsing "]
[null,"Bondsnr.","Naam","Gew.","Remise","Car.","Brt.","HS.","Pnt.","Moyenne","% moy.","% carb.","Mp.","% moy.","% carb.","Rangking"]
[null,null,null," "," "]
[1,{"$f":"Invoerblad!A11","v":0},{"$f":"Invoerblad!B11","v":" "},{"$f":"Invoerblad!S24","v":0},{"$f":"Invoerblad!S30","v":0},{"$f":"Invoerblad!C47","v":0},{"$f":"Invoerblad!D47","v":0},{"$f":"Invoerblad!E47","v":0},{"$f":"Invoerblad!G47","v":0},{"$f":"Invoerblad!F47","v":{"$error":"#DIV/0!"}},{"$f":"Invoerblad!H47/100","v":{"$error":"#DIV/0!"}},{"$f":"Invoerblad!I47/100","v":0},{"$f":"Invoerblad!J47/100","v":0},{"$f":"Invoerblad!K47/100","v":0},{"$f":"Invoerblad!L47/100","v":0},{"$f":"Invoerblad!M47/100","v":0}]
[2,{"$f":"Invoerblad!A12","v":0},{"$f":"Invoerblad!B12","v":" "},{"$f":"Invoerblad!S25","v":0},{"$f":"Invoerblad!S31","v":0},{"$f":"Invoerblad!C48","v":0},{"$f":"Invoerblad!D48","v":0},{"$f":"Invoerblad!E48","v":0},{"$f":"Invoerblad!G48","v":0},{"$f":"Invoerblad!F48","v":{"$error":"#DIV/0!"}},{"$f":"Invoerblad!H48/100","v":{"$error":"#DIV/0!"}},{"$f":"Invoerblad!I48/100","v":0},{"$f":"Invoerblad!J48/100","v":0},{"$f":"Invoerblad!K48/100","v":0},{"$f":"Invoerblad!L48/100","v":0},{"$f":"Invoerblad!M48/100","v":0}]
[3,{"$f":"Invoerblad!A13","v":0},{"$f":"Invoerblad!B13","v":" "},{"$f":"Invoerblad!S26","v":0},{"$f":"Invoerblad!S32","v":0},{"$f":"Invoerblad!C49","v":0},{"$f":"Invoerblad!D49","v":0},{"$f":"Invoerblad!E49","v":0},{"$f":"Invoerblad!G49","v":0},{"$f":"Invoerblad!F49","v":{"$error":"#DIV/0!"}},{"$f":"Invoerblad!H49/100","v":{"$error":"#DIV/0!"}},{"$f":"Invoerblad!I49/100","v":0},{"$f":"Invoerblad!J49/100","v":0},{"$f":"Invoerblad!K49/100","v":0},{"$f":"Invoerblad!L49/100","v":0},{"$f":"Invoerblad!M49/100","v":0}]
[4,{"$f":"Invoerblad!A14","v":0},{"$f":"Invoerblad!B14","v":" "},{"$f":"Invoerblad!S27","v":0},{"$f":"Invoerblad!S33","v":0},{"$f":"Invoerblad!C50","v":0},{"$f":"Invoerblad!D50","v":0},{"$f":"Invoerblad!E50","v":0},{"$f":"Invoerblad!G50","v":0},{"$f":"Invoerblad!F50","v":{"$error":"#DIV/0!"}},{"$f":"Invoerblad!H50/100","v":{"$error":"#DIV/0!"}},{"$f":"Invoerblad!I50/100","v":0},{"$f":"Invoerblad!J50/100","v":0},{"$f":"Invoerblad!K50/100","v":0},{"$f":"Invoerblad!L50/100","v":0},{"$f":"Invoerblad!M50/100","v":0}]
[]
[null,null,"Naam vereniging",null,null,null,null,"Datum"]
[null,null,{"$f":"Invoerblad!E3","v":0},null,null,null,null,{"$f":"Invoerblad!E2","v":"00:00:00"}]
[]
["DIT FORMULIER DUIDELIJK INGEVULD EN VOORZIEN VAN DE HANDTEKENING "]
[]
["VAN EEN LID VAN DE ORGANISERENDE VERENIGING           BINNEN 3 DAGEN "]
[]
["NA AFLOOP VAN DE VOORWEDSTRIJDEN TOEZENDEN OF MAILEN AAN:  "]
["﻿ "]
["Wedstrijdleider PK Libre en bandstoten"]
["District Berkel & Slinge"]
[]
["Johan Jansink",null,null,null,null,null,null,null,null,"handtekening:"]
["Veemarkt 11",null,null,null,null,null,null,null,null,{"$f":"Invoerblad!E4","v":0}]
["7121 AH  Aalten"]
["Tel: 0543-472292 / 06-40263789"]
["j.jansink2016@gmail.com"]
[]
[]
[]
[]
[]
[]
[]
[]
[]
[]
[]
[]
[]
[]
[]
[]
[]
[]
[]
[]
[]
[]
[]
[]
[]
[]
[]
[]
[]
[]
[]
[]
[]
[]
[]
[]
[]
[]
[]
[]
[]
[]
[]
[]
[]
[]
[]
[]
[]
[]
[]
[]
[]
[]
[]
[]
[]
[]
[]
[]
[]
[]
[]
[]
[]
[]
[]
[]
[]
[null,"made by Marco Ubbink"]